BEGIN:VCALENDAR
VERSION:2.0
PRODID:-//The Worshipful Company of Launderers - ECPv6.15.20//NONSGML v1.0//EN
CALSCALE:GREGORIAN
METHOD:PUBLISH
X-WR-CALNAME:The Worshipful Company of Launderers
X-ORIGINAL-URL:https://www.launderers.co.uk
X-WR-CALDESC:Events for The Worshipful Company of Launderers
REFRESH-INTERVAL;VALUE=DURATION:PT1H
X-Robots-Tag:noindex
X-PUBLISHED-TTL:PT1H
BEGIN:VTIMEZONE
TZID:Europe/London
BEGIN:DAYLIGHT
TZOFFSETFROM:+0000
TZOFFSETTO:+0100
TZNAME:BST
DTSTART:20250330T010000
END:DAYLIGHT
BEGIN:STANDARD
TZOFFSETFROM:+0100
TZOFFSETTO:+0000
TZNAME:GMT
DTSTART:20251026T010000
END:STANDARD
BEGIN:DAYLIGHT
TZOFFSETFROM:+0000
TZOFFSETTO:+0100
TZNAME:BST
DTSTART:20260329T010000
END:DAYLIGHT
BEGIN:STANDARD
TZOFFSETFROM:+0100
TZOFFSETTO:+0000
TZNAME:GMT
DTSTART:20261025T010000
END:STANDARD
BEGIN:DAYLIGHT
TZOFFSETFROM:+0000
TZOFFSETTO:+0100
TZNAME:BST
DTSTART:20270328T010000
END:DAYLIGHT
BEGIN:STANDARD
TZOFFSETFROM:+0100
TZOFFSETTO:+0000
TZNAME:GMT
DTSTART:20271031T010000
END:STANDARD
END:VTIMEZONE
BEGIN:VEVENT
DTSTART;TZID=Europe/London:20260303T103000
DTEND;TZID=Europe/London:20260303T120000
DTSTAMP:20260421T202627
CREATED:20260302T110843Z
LAST-MODIFIED:20260302T110843Z
UID:10000064-1772533800-1772539200@www.launderers.co.uk
SUMMARY:Online Seminar on Marketing using AI for Sales and Service in the Textile Care Sector
DESCRIPTION:Free online Seminar on Marketing using Ai for Sales and Service in the Textile Care sector. \nThe Speaker\, an expert in Marketing using Ai\, is Nick Crawford\, who has Ai marketing experience with over 20 years working with brands like BMW\, Travelodge\, RSPB\, and many others. He has been instrumental in these organisations doubling their marketing effectiveness through data-driven strategies. \nNick’s clients stand out from the crowd with content that educates\, entertains\, and informs\, delivered with quality and speed by fusing human experience with AI to create “Intelligent Marketing”. \nAs well as running his own consultancy\, Nick is an Associate Trainer for AI for Non-Techies\, the UK’s leading AI training provider and adviser to top global brands. \nThis Seminar is open to anyone wishing to expand their knowledge of using Ai effectively within our industry and is free from cost which is being borne by The Worshipful Company of Launderers’ Education Trust Fund! \nThe Worshipful Company of Launderers is inviting you to a scheduled Zoom meeting. \nTopic: Marketing Sales and Service in Textile Care Using Ai in the Fabric care industry \nTime: Mar 3\, 2026 10:30 AM London \nJoin Zoom Meeting \nhttps://us02web.zoom.us/j/89981951660?pwd=YBwfnkOXDofFDYMnS0svrCwatotLwx.1 \nMeeting ID: 899 8195 1660 \nPasscode: 570291 \nJoin instructions \nhttps://us02web.zoom.us/meetings/89981951660/invitations?signature=VGi1FUso7ELO5_SzPCRbuiZthNEnmPICH6wIHKAjoho
URL:https://www.launderers.co.uk/event/online-ai-seminar/
LOCATION:Online
CATEGORIES:Annual Programme,Main Events
ATTACH;FMTTYPE=image/jpeg:https://www.launderers.co.uk/wp-content/uploads/2016/06/join-us.jpg
END:VEVENT
BEGIN:VEVENT
DTSTART;VALUE=DATE:20260320
DTEND;VALUE=DATE:20260321
DTSTAMP:20260421T202627
CREATED:20260116T111637Z
LAST-MODIFIED:20260225T074535Z
UID:10000056-1773964800-1774051199@www.launderers.co.uk
SUMMARY:United Guilds’ Service\, Followed by Liveries Luncheon
DESCRIPTION:Join us for the annual United Guilds’ Service\, followed by Liveries Luncheon at Tallow Chandlers
URL:https://www.launderers.co.uk/event/united-guilds-service-followed-by-liveries-luncheon-2026-03/
LOCATION:St Paul’s Cathedral\, St. Paul's Churchyard\, London\, London\, EC4M 8AD
CATEGORIES:Annual Programme,Main Events
ATTACH;FMTTYPE=image/png:https://www.launderers.co.uk/wp-content/uploads/2026/01/Screenshot-2026-02-17-203136.png
END:VEVENT
BEGIN:VEVENT
DTSTART;TZID=Europe/London:20260330T120000
DTEND;TZID=Europe/London:20260330T140000
DTSTAMP:20260421T202627
CREATED:20260116T110916Z
LAST-MODIFIED:20260116T132206Z
UID:10000052-1774872000-1774879200@www.launderers.co.uk
SUMMARY:Master and Wardens
DESCRIPTION:
URL:https://www.launderers.co.uk/event/master-and-wardens-2026-03/
LOCATION:Launderers’ Hall\, 9 Montague Close\, London Bridge\, London\, SE1 9DD\, United Kingdom
CATEGORIES:Annual Programme,Main Events
ATTACH;FMTTYPE=image/jpeg:https://www.launderers.co.uk/wp-content/uploads/2016/06/join-us.jpg
END:VEVENT
BEGIN:VEVENT
DTSTART;TZID=Europe/London:20260330T153000
DTEND;TZID=Europe/London:20260330T213000
DTSTAMP:20260421T202627
CREATED:20260116T111759Z
LAST-MODIFIED:20260116T132237Z
UID:10000057-1774884600-1774906200@www.launderers.co.uk
SUMMARY:Spring Court and Livery Dinner
DESCRIPTION:
URL:https://www.launderers.co.uk/event/spring-court-and-livery-dinner-2026-03/
LOCATION:Launderers’ Hall\, 9 Montague Close\, London Bridge\, London\, SE1 9DD\, United Kingdom
CATEGORIES:Annual Programme,Main Events
ATTACH;FMTTYPE=image/jpeg:https://www.launderers.co.uk/wp-content/uploads/2016/06/join-us.jpg
END:VEVENT
END:VCALENDAR