BEGIN:VCALENDAR
VERSION:2.0
PRODID:-//The Worshipful Company of Launderers - ECPv6.15.20//NONSGML v1.0//EN
CALSCALE:GREGORIAN
METHOD:PUBLISH
X-WR-CALNAME:The Worshipful Company of Launderers
X-ORIGINAL-URL:https://www.launderers.co.uk
X-WR-CALDESC:Events for The Worshipful Company of Launderers
REFRESH-INTERVAL;VALUE=DURATION:PT1H
X-Robots-Tag:noindex
X-PUBLISHED-TTL:PT1H
BEGIN:VTIMEZONE
TZID:Europe/London
BEGIN:DAYLIGHT
TZOFFSETFROM:+0000
TZOFFSETTO:+0100
TZNAME:BST
DTSTART:20240331T010000
END:DAYLIGHT
BEGIN:STANDARD
TZOFFSETFROM:+0100
TZOFFSETTO:+0000
TZNAME:GMT
DTSTART:20241027T010000
END:STANDARD
BEGIN:DAYLIGHT
TZOFFSETFROM:+0000
TZOFFSETTO:+0100
TZNAME:BST
DTSTART:20250330T010000
END:DAYLIGHT
BEGIN:STANDARD
TZOFFSETFROM:+0100
TZOFFSETTO:+0000
TZNAME:GMT
DTSTART:20251026T010000
END:STANDARD
BEGIN:DAYLIGHT
TZOFFSETFROM:+0000
TZOFFSETTO:+0100
TZNAME:BST
DTSTART:20260329T010000
END:DAYLIGHT
BEGIN:STANDARD
TZOFFSETFROM:+0100
TZOFFSETTO:+0000
TZNAME:GMT
DTSTART:20261025T010000
END:STANDARD
END:VTIMEZONE
BEGIN:VEVENT
DTSTART;TZID=Europe/London:20251027T130000
DTEND;TZID=Europe/London:20251027T153000
DTSTAMP:20260423T012116
CREATED:20250925T132058Z
LAST-MODIFIED:20250925T132058Z
UID:10000050-1761570000-1761579000@www.launderers.co.uk
SUMMARY:Autumn Livery Luncheon
DESCRIPTION:You and your guests are warmly invited to attend the Autumn Livery Lunch which will be held in the River Room on Monday\, 27th October 2025. \nThe format will be a reception commencing at 1300 followed by luncheon served at 1330\, concluding by 1530. \nDress code is Lounge Suit. \nCost is £135 per head. \nPlease complete the Booking Form attached to reserve your places. \nBooking Form
URL:https://www.launderers.co.uk/event/autumn-livery-luncheon-2025/
LOCATION:Launderers’ Hall\, 9 Montague Close\, London Bridge\, London\, SE1 9DD\, United Kingdom
CATEGORIES:Annual Programme,Main Events
ATTACH;FMTTYPE=image/jpeg:https://www.launderers.co.uk/wp-content/uploads/2016/06/join-us-logo.jpg
END:VEVENT
END:VCALENDAR