BEGIN:VCALENDAR
VERSION:2.0
PRODID:-//The Worshipful Company of Launderers - ECPv6.15.20//NONSGML v1.0//EN
CALSCALE:GREGORIAN
METHOD:PUBLISH
X-WR-CALNAME:The Worshipful Company of Launderers
X-ORIGINAL-URL:https://www.launderers.co.uk
X-WR-CALDESC:Events for The Worshipful Company of Launderers
REFRESH-INTERVAL;VALUE=DURATION:PT1H
X-Robots-Tag:noindex
X-PUBLISHED-TTL:PT1H
BEGIN:VTIMEZONE
TZID:Europe/London
BEGIN:DAYLIGHT
TZOFFSETFROM:+0000
TZOFFSETTO:+0100
TZNAME:BST
DTSTART:20220327T010000
END:DAYLIGHT
BEGIN:STANDARD
TZOFFSETFROM:+0100
TZOFFSETTO:+0000
TZNAME:GMT
DTSTART:20221030T010000
END:STANDARD
BEGIN:DAYLIGHT
TZOFFSETFROM:+0000
TZOFFSETTO:+0100
TZNAME:BST
DTSTART:20230326T010000
END:DAYLIGHT
BEGIN:STANDARD
TZOFFSETFROM:+0100
TZOFFSETTO:+0000
TZNAME:GMT
DTSTART:20231029T010000
END:STANDARD
BEGIN:DAYLIGHT
TZOFFSETFROM:+0000
TZOFFSETTO:+0100
TZNAME:BST
DTSTART:20240331T010000
END:DAYLIGHT
BEGIN:STANDARD
TZOFFSETFROM:+0100
TZOFFSETTO:+0000
TZNAME:GMT
DTSTART:20241027T010000
END:STANDARD
BEGIN:DAYLIGHT
TZOFFSETFROM:+0000
TZOFFSETTO:+0100
TZNAME:BST
DTSTART:20250330T010000
END:DAYLIGHT
BEGIN:STANDARD
TZOFFSETFROM:+0100
TZOFFSETTO:+0000
TZNAME:GMT
DTSTART:20251026T010000
END:STANDARD
BEGIN:DAYLIGHT
TZOFFSETFROM:+0000
TZOFFSETTO:+0100
TZNAME:BST
DTSTART:20260329T010000
END:DAYLIGHT
BEGIN:STANDARD
TZOFFSETFROM:+0100
TZOFFSETTO:+0000
TZNAME:GMT
DTSTART:20261025T010000
END:STANDARD
END:VTIMEZONE
BEGIN:VEVENT
DTSTART;VALUE=DATE:20231004
DTEND;VALUE=DATE:20231005
DTSTAMP:20260426T020613
CREATED:20230913T050812Z
LAST-MODIFIED:20230927T111429Z
UID:10000016-1696377600-1696463999@www.launderers.co.uk
SUMMARY:Musician’s Company Evensong
DESCRIPTION:
URL:https://www.launderers.co.uk/event/musicians-company-evensong/
LOCATION:St Paul’s Cathedral\, St. Paul's Churchyard\, London\, London\, EC4M 8AD
CATEGORIES:Annual Programme,Main Events
ATTACH;FMTTYPE=image/jpeg:https://www.launderers.co.uk/wp-content/uploads/2023/09/Musicians-Company-Evensong.jpg
END:VEVENT
BEGIN:VEVENT
DTSTART;TZID=Europe/London:20231016T183000
DTEND;TZID=Europe/London:20231016T235900
DTSTAMP:20260426T020613
CREATED:20230913T055716Z
LAST-MODIFIED:20230913T055917Z
UID:10000017-1697481000-1697500740@www.launderers.co.uk
SUMMARY:Autumn Livery Dinner
DESCRIPTION:You are warmly invited to our Autumn Livery Dinner on Monday\, 16 October 2023 at Launderers’ Hall commencing 1830. \nThe format will be a reception followed by a three-course Dinner with complimentary wines. \nMaster will be presenting the Soldier of the Year with his / her Medal\, so do come along and support the Company’s affiliation with the Royal Logistics Corp. \nReception: 1830\nDinner: 1930\nCarriages: 2200\nDress code: Lounge Suit.\nThe cost: £112.00 \nMenuStarterDuo of Gressingham Duck\nConfit Duck Rillette\, Smoked Duck Breast\nChicory Salad\, Orand Fennel Dressing \nVegetarianRoasted Butternut Squash and Beetroot Tian Whipped Feta\,\nHoney Vinaigrette\, Toasted Pine Nuts \nMainSlow cooked Beef Ox Cheek\nHorseradish Mashed Potatoes\, Roasted Squash\, Kurly Kale\nRich reduced Sauce \nVegetarianRoasted Aubergine\, Chilli and Peanut Dressing \nPuddingWarm Apple Tartin\, stem Ginger Ice Cream \nCoffee\, Tea and Petit Fours
URL:https://www.launderers.co.uk/event/autumn-livery-dinner/
LOCATION:Launderers’ Hall\, 9 Montague Close\, London Bridge\, London\, SE1 9DD\, United Kingdom
CATEGORIES:Annual Programme,Main Events
ATTACH;FMTTYPE=image/jpeg:https://www.launderers.co.uk/wp-content/uploads/2016/06/join-us-logo.jpg
END:VEVENT
BEGIN:VEVENT
DTSTART;VALUE=DATE:20231102
DTEND;VALUE=DATE:20231103
DTSTAMP:20260426T020613
CREATED:20230913T053923Z
LAST-MODIFIED:20230913T053923Z
UID:10000018-1698883200-1698969599@www.launderers.co.uk
SUMMARY:LADA’s Presentation
DESCRIPTION:
URL:https://www.launderers.co.uk/event/ladas-presentation/
LOCATION:Brighton\, Brighton\, United Kingdom
CATEGORIES:Annual Programme,Main Events
ATTACH;FMTTYPE=image/jpeg:https://www.launderers.co.uk/wp-content/uploads/2016/06/join-us-logo.jpg
END:VEVENT
BEGIN:VEVENT
DTSTART;VALUE=DATE:20231110
DTEND;VALUE=DATE:20231111
DTSTAMP:20260426T020613
CREATED:20230913T054020Z
LAST-MODIFIED:20230913T054020Z
UID:10000019-1699574400-1699660799@www.launderers.co.uk
SUMMARY:Admission of the Lord Mayor\, Silent Ceremony
DESCRIPTION:
URL:https://www.launderers.co.uk/event/admission-of-the-lord-mayor-silent-ceremony/
LOCATION:Guildhall\, Gresham Street\, London\, EC2V 7HH\, United Kingdom
CATEGORIES:Annual Programme,Main Events
ATTACH;FMTTYPE=image/jpeg:https://www.launderers.co.uk/wp-content/uploads/2016/06/join-us-logo.jpg
END:VEVENT
BEGIN:VEVENT
DTSTART;VALUE=DATE:20231111
DTEND;VALUE=DATE:20231112
DTSTAMP:20260426T020613
CREATED:20230913T054058Z
LAST-MODIFIED:20230927T111701Z
UID:10000020-1699660800-1699747199@www.launderers.co.uk
SUMMARY:Lord Mayor’s Show
DESCRIPTION:
URL:https://www.launderers.co.uk/event/lord-mayors-show/
LOCATION:City of London\, London\, United Kingdom
CATEGORIES:Annual Programme,Main Events
ATTACH;FMTTYPE=image/jpeg:https://www.launderers.co.uk/wp-content/uploads/2023/09/Lord-Mayors-Show.jpg
END:VEVENT
BEGIN:VEVENT
DTSTART;VALUE=DATE:20231113
DTEND;VALUE=DATE:20231114
DTSTAMP:20260426T020613
CREATED:20230913T054146Z
LAST-MODIFIED:20230927T112916Z
UID:10000021-1699833600-1699919999@www.launderers.co.uk
SUMMARY:Remembrance Sunday
DESCRIPTION:
URL:https://www.launderers.co.uk/event/remembrance-sunday/
LOCATION:St Paul’s Cathedral\, St. Paul's Churchyard\, London\, London\, EC4M 8AD
CATEGORIES:Annual Programme,Main Events
ATTACH;FMTTYPE=image/jpeg:https://www.launderers.co.uk/wp-content/uploads/2023/09/Remembrance-Sunday.jpg
END:VEVENT
BEGIN:VEVENT
DTSTART;VALUE=DATE:20231115
DTEND;VALUE=DATE:20231116
DTSTAMP:20260426T020613
CREATED:20230913T054224Z
LAST-MODIFIED:20230913T054224Z
UID:10000022-1700006400-1700092799@www.launderers.co.uk
SUMMARY:Lord Mayor’s Banquet
DESCRIPTION:
URL:https://www.launderers.co.uk/event/lord-mayors-banquet/
LOCATION:Mansion House
CATEGORIES:Annual Programme,Main Events
ATTACH;FMTTYPE=image/jpeg:https://www.launderers.co.uk/wp-content/uploads/2016/06/join-us-logo.jpg
END:VEVENT
BEGIN:VEVENT
DTSTART;VALUE=DATE:20231123
DTEND;VALUE=DATE:20231124
DTSTAMP:20260426T020613
CREATED:20230913T061230Z
LAST-MODIFIED:20230927T113231Z
UID:10000024-1700697600-1700783999@www.launderers.co.uk
SUMMARY:Festival of St Cecilia: A Celebration of Music
DESCRIPTION:
URL:https://www.launderers.co.uk/event/festival-of-st-cecilia-a-celebration-of-music/
LOCATION:Westminster Abbey\, Dean's Yard\, London\, SW1P 3PA\, United Kingdom
CATEGORIES:Annual Programme,Main Events
ATTACH;FMTTYPE=image/jpeg:https://www.launderers.co.uk/wp-content/uploads/2023/09/Festival-of-St-Celia.jpg
END:VEVENT
BEGIN:VEVENT
DTSTART;VALUE=DATE:20231127
DTEND;VALUE=DATE:20231129
DTSTAMP:20260426T020613
CREATED:20230913T061146Z
LAST-MODIFIED:20230915T191544Z
UID:10000023-1701043200-1701215999@www.launderers.co.uk
SUMMARY:British Red Cross Market
DESCRIPTION:
URL:https://www.launderers.co.uk/event/british-red-cross-market/
LOCATION:Guildhall\, Gresham Street\, London\, EC2V 7HH\, United Kingdom
CATEGORIES:Annual Programme,Main Events
ATTACH;FMTTYPE=image/jpeg:https://www.launderers.co.uk/wp-content/uploads/2016/06/join-us-logo.jpg
END:VEVENT
BEGIN:VEVENT
DTSTART;VALUE=DATE:20231204
DTEND;VALUE=DATE:20231205
DTSTAMP:20260426T020613
CREATED:20230913T061334Z
LAST-MODIFIED:20230927T113452Z
UID:10000025-1701648000-1701734399@www.launderers.co.uk
SUMMARY:Carol Service and Supper
DESCRIPTION:
URL:https://www.launderers.co.uk/event/carol-service-and-supper/
LOCATION:Southwark Cathedral\, London Bridge\, London\, SE1 9DA
CATEGORIES:Annual Programme,Main Events
ATTACH;FMTTYPE=image/jpeg:https://www.launderers.co.uk/wp-content/uploads/2023/09/Christmas-Carol-Service-and-Supper.jpg
END:VEVENT
BEGIN:VEVENT
DTSTART;VALUE=DATE:20240212
DTEND;VALUE=DATE:20240213
DTSTAMP:20260426T020613
CREATED:20230913T061423Z
LAST-MODIFIED:20230913T061423Z
UID:10000026-1707696000-1707782399@www.launderers.co.uk
SUMMARY:Court Meeting and Luncheon
DESCRIPTION:
URL:https://www.launderers.co.uk/event/court-meeting-and-luncheon/
LOCATION:Launderers’ Hall\, 9 Montague Close\, London Bridge\, London\, SE1 9DD\, United Kingdom
CATEGORIES:Annual Programme,Main Events
ATTACH;FMTTYPE=image/jpeg:https://www.launderers.co.uk/wp-content/uploads/2016/06/join-us-logo.jpg
END:VEVENT
BEGIN:VEVENT
DTSTART;VALUE=DATE:20240213
DTEND;VALUE=DATE:20240214
DTSTAMP:20260426T020613
CREATED:20230913T061616Z
LAST-MODIFIED:20230913T061616Z
UID:10000027-1707782400-1707868799@www.launderers.co.uk
SUMMARY:Leadership Seminar – sponsored by Oliver Family Trust
DESCRIPTION:
URL:https://www.launderers.co.uk/event/leadership-seminar-sponsored-by-oliver-family-trust/
LOCATION:Launderers’ Hall\, 9 Montague Close\, London Bridge\, London\, SE1 9DD\, United Kingdom
CATEGORIES:Annual Programme,Main Events
ATTACH;FMTTYPE=image/jpeg:https://www.launderers.co.uk/wp-content/uploads/2016/06/join-us-logo.jpg
END:VEVENT
BEGIN:VEVENT
DTSTART;VALUE=DATE:20240221
DTEND;VALUE=DATE:20240222
DTSTAMP:20260426T020613
CREATED:20230913T061705Z
LAST-MODIFIED:20230913T061705Z
UID:10000028-1708473600-1708559999@www.launderers.co.uk
SUMMARY:Shrove Tuesday\, inter-Livery Pancake Race
DESCRIPTION:
URL:https://www.launderers.co.uk/event/shrove-tuesday-inter-livery-pancake-race/
LOCATION:TBA
CATEGORIES:Annual Programme,Main Events
ATTACH;FMTTYPE=image/jpeg:https://www.launderers.co.uk/wp-content/uploads/2016/06/join-us-logo.jpg
END:VEVENT
BEGIN:VEVENT
DTSTART;VALUE=DATE:20240315
DTEND;VALUE=DATE:20240316
DTSTAMP:20260426T020613
CREATED:20230913T061806Z
LAST-MODIFIED:20230915T180357Z
UID:10000029-1710460800-1710547199@www.launderers.co.uk
SUMMARY:United Guilds’ Service\, Followed by Liveries Luncheon
DESCRIPTION:United Guilds’ Service\, Followed by Liveries Luncheon at venue tba
URL:https://www.launderers.co.uk/event/united-guilds-service-followed-by-liveries-luncheon/
LOCATION:St Paul’s Cathedral\, St. Paul's Churchyard\, London\, London\, EC4M 8AD
CATEGORIES:Annual Programme,Main Events
ATTACH;FMTTYPE=image/jpeg:https://www.launderers.co.uk/wp-content/uploads/2016/06/join-us-logo.jpg
END:VEVENT
BEGIN:VEVENT
DTSTART;VALUE=DATE:20240419
DTEND;VALUE=DATE:20240422
DTSTAMP:20260426T020613
CREATED:20240304T212321Z
LAST-MODIFIED:20240304T212321Z
UID:10000037-1713484800-1713743999@www.launderers.co.uk
SUMMARY:LIVERY Week-end:  CAMBRIDGE
DESCRIPTION:Master has arranged the following delights for the Livery W/E 2024 in the City of Cambridge and both he and Gill look forward to welcoming you over the week-end of the 20th -21st April. \nHotel Accommodation has been provisionally reserved at The Graduate Hotel minutes away from the main attractions. \nA quality hotel on the banks of the River Cam and in the heart of city\, with gardens\, a large central bar and lots of comfy chairs and sofas on which to sit to chill out. From the moment you walk through the main reception doors\, you’ll be immersed in the local culture and charm that’s unique to Cambridge. From the DNA double helix light above the front desk\, an homage to Cambridge alumni Rosalind Franklin\, to the lovingly restored\, 100-year-old punting boats that adorn the lobby walls. A leisure club offers an indoor swimming pool\, hot tub\, sauna and steam room and gym. \nRoom Rates:Double (incl Breakfast) Friday night £279. Saturday night £299 \nSingle (incl Breakfast) Friday night £259. Saturday night £279 \nOption to upgrade to Graduate Riverview room with Balcony at £30 per night. \nBooking code – 190424SIMO \nParking:Overnight parking in the secure adjacent carpark @ £15 night. \nFriday 19th April:We hope many of you will join us for an informal supper at a local restaurant. Details to follow. (Please let the Simon know before the end of February so\, we have an idea of numbers.) \nSaturday morning 11am:A 90-minute walking tour of Cambridge with a Blue Badge guide. Whilst delivering an in-depth and interesting description of its history\, the tour will cover some of the city’s best-known features such as the Market Square\, the Corpus Clock\, Kings Parade along with some of the many colleges. \nMeet in the Hotel lobby at 11am. \nCost: £16p.p. \nThe rest of the day is free to explore. \nSaturday Eventing:Black Tie Dinner at The Old Hall\, Queen’s College at 7pm \nDrinks reception\, three course meal\, coffee and chocolates. \nDating from 1448 the Old Hall retains many historic features. With its fireplace\, decorated wood panelling on the walls\, stained glass windows\, tiled floor\, Minstrels’ gallery and subtle lighting\, a rather special room.\nApproximately 10 minutes’ walk from the hotel. \nCost – £100.00 pp \nOther places to visit over the weekendUniversity Colleges: Cambridge has some stunning colleges\, and most are open to the public \nFitzwilliam Museum: dedicated to art and antiquities\, with items originating from all the most important ancient cultures such as Greece\, Rome and Egypt but also also works from some of the most illustrious artists. \nSt. Mary’s Church: an absolutely beautiful piece of architecture with an imposing tower. Yes\, you can climb the tower\, a feat that will reward you with an incredible view of the city. \nOpen top bus tour: enjoy unlimited hop on hop off for 24 hours with your ticket. Discover key sights\, including the famous colleges and the unmissable American Cemetery in nearby Madingley. Starting point is Queens’ College Porter’s Lodge (approx. 7 mins walk from our hotel). Highly recommended. \nThe Eagle Pub: Built in 1667. Regulars have included James Watson\, Francis Crick and Rosalind Franklin who discovered DNA and celebrated that phenomenon here and hundreds of WW2 RAF pilots who left behind a wall of messages in the hope they were never forgotten. \nFitzbillies Tea Shop: famous for their amazing Chelsea Buns!
URL:https://www.launderers.co.uk/event/livery-week-end-cambridge/
LOCATION:City of Cambridge\, Cambridge\, United Kingdom
CATEGORIES:Annual Programme,Main Events
ATTACH;FMTTYPE=image/jpeg:https://www.launderers.co.uk/wp-content/uploads/2016/06/join-us-logo.jpg
END:VEVENT
BEGIN:VEVENT
DTSTART;VALUE=DATE:20240422
DTEND;VALUE=DATE:20240423
DTSTAMP:20260426T020613
CREATED:20230913T062621Z
LAST-MODIFIED:20230913T062621Z
UID:10000031-1713744000-1713830399@www.launderers.co.uk
SUMMARY:Spring Livery Luncheon
DESCRIPTION:
URL:https://www.launderers.co.uk/event/spring-livery-luncheon/
LOCATION:Launderers’ Hall\, 9 Montague Close\, London Bridge\, London\, SE1 9DD\, United Kingdom
CATEGORIES:Annual Programme,Main Events
ATTACH;FMTTYPE=image/jpeg:https://www.launderers.co.uk/wp-content/uploads/2016/06/join-us-logo.jpg
END:VEVENT
BEGIN:VEVENT
DTSTART;VALUE=DATE:20240502
DTEND;VALUE=DATE:20240503
DTSTAMP:20260426T020613
CREATED:20230913T062703Z
LAST-MODIFIED:20230913T062703Z
UID:10000032-1714608000-1714694399@www.launderers.co.uk
SUMMARY:367th Festival of the Sons of the Clergy Support Trust
DESCRIPTION:
URL:https://www.launderers.co.uk/event/367th-festival-of-the-sons-of-the-clergy-support-trust/
LOCATION:St Paul’s Cathedral\, St. Paul's Churchyard\, London\, London\, EC4M 8AD
CATEGORIES:Annual Programme,Main Events
ATTACH;FMTTYPE=image/jpeg:https://www.launderers.co.uk/wp-content/uploads/2016/06/join-us-logo.jpg
END:VEVENT
BEGIN:VEVENT
DTSTART;VALUE=DATE:20240531
DTEND;VALUE=DATE:20240601
DTSTAMP:20260426T020613
CREATED:20230913T062737Z
LAST-MODIFIED:20240327T061650Z
UID:10000033-1717113600-1717199999@www.launderers.co.uk
SUMMARY:Annual Banquet
DESCRIPTION:This year\, the Launderers’ Annual Banquet will be held at Tallow Chandlers’ Hall on Friday\, 31st May 2024. Tallow Chandlers’ Hall\, 4 Dowgate Hill\, LONDON EC4R 2SH\, is where the Company was constituted in 1960. \nThe Drinks Reception will be held in the Parlour from 6.45pm\, with dinner in The Hall from 7.30pm until 10.30pm including a guest speaker and musical entertainment. \nThe guest speaker for the evening will be Dr Mark Oakley\, the new Dean of Southwark\, and we are delighted to have two artists from the Guildhall School of Music and Drama to entertain us with light classical music. \nThe dress code for the Banquet is black tie badges and decorations or the equivalent Highland\, military or national dress may be worn.
URL:https://www.launderers.co.uk/event/annual-banquet/
LOCATION:Tallow Chandlers’ Hall\, United Kingdom
CATEGORIES:Annual Programme,Main Events
ATTACH;FMTTYPE=image/jpeg:https://www.launderers.co.uk/wp-content/uploads/2023/09/Launderers-Annual-Banquet-featured-image.jpg
END:VEVENT
BEGIN:VEVENT
DTSTART;VALUE=DATE:20240612
DTEND;VALUE=DATE:20240613
DTSTAMP:20260426T020613
CREATED:20230913T062824Z
LAST-MODIFIED:20240412T121646Z
UID:10000034-1718150400-1718236799@www.launderers.co.uk
SUMMARY:Launderers’ Golf Day
DESCRIPTION:
URL:https://www.launderers.co.uk/event/launderers-golf-day/
LOCATION:Sundridge Park Golf Club\, Garden Road\, Bromley\, BR1 3NE
CATEGORIES:Annual Programme,Main Events
ATTACH;FMTTYPE=image/jpeg:https://www.launderers.co.uk/wp-content/uploads/2023/06/WCL-Golf-Day_DINERS_21June2023.jpg
END:VEVENT
BEGIN:VEVENT
DTSTART;VALUE=DATE:20240624
DTEND;VALUE=DATE:20240625
DTSTAMP:20260426T020613
CREATED:20230913T062948Z
LAST-MODIFIED:20230913T065220Z
UID:10000035-1719187200-1719273599@www.launderers.co.uk
SUMMARY:Common Hall – Election of the Sheriffs
DESCRIPTION:
URL:https://www.launderers.co.uk/event/common-hall-election-of-the-sheriffs/
LOCATION:Guildhall\, Gresham Street\, London\, EC2V 7HH\, United Kingdom
CATEGORIES:Annual Programme,Main Events
ATTACH;FMTTYPE=image/jpeg:https://www.launderers.co.uk/wp-content/uploads/2016/06/join-us-logo.jpg
END:VEVENT
BEGIN:VEVENT
DTSTART;VALUE=DATE:20240701
DTEND;VALUE=DATE:20240702
DTSTAMP:20260426T020613
CREATED:20230913T063025Z
LAST-MODIFIED:20230913T064821Z
UID:10000036-1719792000-1719878399@www.launderers.co.uk
SUMMARY:Installation Court and Annual Service – Launderers’ Hall
DESCRIPTION:
URL:https://www.launderers.co.uk/event/installation-court-and-annual-service-launderers-hall/
LOCATION:Launderers’ Hall\, 9 Montague Close\, London Bridge\, London\, SE1 9DD\, United Kingdom
CATEGORIES:Annual Programme,Main Events
ATTACH;FMTTYPE=image/jpeg:https://www.launderers.co.uk/wp-content/uploads/2016/06/join-us-logo.jpg
END:VEVENT
BEGIN:VEVENT
DTSTART;TZID=Europe/London:20240930T140000
DTEND;TZID=Europe/London:20240930T170000
DTSTAMP:20260426T020613
CREATED:20240805T105403Z
LAST-MODIFIED:20240805T105403Z
UID:10000038-1727704800-1727715600@www.launderers.co.uk
SUMMARY:Master and Wardens
DESCRIPTION:
URL:https://www.launderers.co.uk/event/master-and-wardens-2/
LOCATION:Launderers’ Hall\, 9 Montague Close\, London Bridge\, London\, SE1 9DD\, United Kingdom
CATEGORIES:Annual Programme,Main Events
ATTACH;FMTTYPE=image/jpeg:https://www.launderers.co.uk/wp-content/uploads/2016/06/join-us.jpg
END:VEVENT
BEGIN:VEVENT
DTSTART;VALUE=DATE:20241014
DTEND;VALUE=DATE:20241015
DTSTAMP:20260426T020613
CREATED:20240805T110003Z
LAST-MODIFIED:20240805T110003Z
UID:10000039-1728864000-1728950399@www.launderers.co.uk
SUMMARY:Court and Autumn Livery Dinner
DESCRIPTION:
URL:https://www.launderers.co.uk/event/court-and-autumn-livery-dinner/
LOCATION:Launderers’ Hall\, 9 Montague Close\, London Bridge\, London\, SE1 9DD\, United Kingdom
CATEGORIES:Annual Programme,Main Events
ATTACH;FMTTYPE=image/jpeg:https://www.launderers.co.uk/wp-content/uploads/2016/06/join-us.jpg
END:VEVENT
BEGIN:VEVENT
DTSTART;VALUE=DATE:20241202
DTEND;VALUE=DATE:20241203
DTSTAMP:20260426T020613
CREATED:20240805T110202Z
LAST-MODIFIED:20240806T065908Z
UID:10000040-1733097600-1733183999@www.launderers.co.uk
SUMMARY:Christmas Carol Service and supper
DESCRIPTION:
URL:https://www.launderers.co.uk/event/christmas-carol-service-and-supper/
LOCATION:Launderers’ Hall\, 9 Montague Close\, London Bridge\, London\, SE1 9DD\, United Kingdom
CATEGORIES:Annual Programme,Main Events
ATTACH;FMTTYPE=image/jpeg:https://www.launderers.co.uk/wp-content/uploads/2024/08/Christmas-Carol-Service-and-supper-featured.jpg
END:VEVENT
BEGIN:VEVENT
DTSTART;TZID=Europe/London:20250203T140000
DTEND;TZID=Europe/London:20250203T170000
DTSTAMP:20260426T020613
CREATED:20240805T110434Z
LAST-MODIFIED:20240805T110434Z
UID:10000041-1738591200-1738602000@www.launderers.co.uk
SUMMARY:Master and Wardens
DESCRIPTION:
URL:https://www.launderers.co.uk/event/master-and-wardens-3/
LOCATION:Launderers’ Hall\, 9 Montague Close\, London Bridge\, London\, SE1 9DD\, United Kingdom
CATEGORIES:Annual Programme,Main Events
ATTACH;FMTTYPE=image/jpeg:https://www.launderers.co.uk/wp-content/uploads/2016/06/join-us.jpg
END:VEVENT
BEGIN:VEVENT
DTSTART;TZID=Europe/London:20250217T110000
DTEND;TZID=Europe/London:20250217T150000
DTSTAMP:20260426T020613
CREATED:20240805T110537Z
LAST-MODIFIED:20240806T064854Z
UID:10000042-1739790000-1739804400@www.launderers.co.uk
SUMMARY:Court and Lunch
DESCRIPTION:
URL:https://www.launderers.co.uk/event/court-and-lunch/
LOCATION:Launderers’ Hall\, 9 Montague Close\, London Bridge\, London\, SE1 9DD\, United Kingdom
CATEGORIES:Annual Programme,Main Events
ATTACH;FMTTYPE=image/jpeg:https://www.launderers.co.uk/wp-content/uploads/2016/06/join-us.jpg
END:VEVENT
BEGIN:VEVENT
DTSTART;TZID=Europe/London:20250331T140000
DTEND;TZID=Europe/London:20250331T170000
DTSTAMP:20260426T020613
CREATED:20240805T110635Z
LAST-MODIFIED:20240806T065214Z
UID:10000043-1743429600-1743440400@www.launderers.co.uk
SUMMARY:Master and Wardens
DESCRIPTION:
URL:https://www.launderers.co.uk/event/master-and-wardens-4/
LOCATION:Launderers’ Hall\, 9 Montague Close\, London Bridge\, London\, SE1 9DD\, United Kingdom
CATEGORIES:Annual Programme,Main Events
ATTACH;FMTTYPE=image/jpeg:https://www.launderers.co.uk/wp-content/uploads/2016/06/join-us.jpg
END:VEVENT
BEGIN:VEVENT
DTSTART;TZID=Europe/London:20250414T160000
DTEND;TZID=Europe/London:20250414T213000
DTSTAMP:20260426T020613
CREATED:20240805T110811Z
LAST-MODIFIED:20240806T065338Z
UID:10000044-1744646400-1744666200@www.launderers.co.uk
SUMMARY:Spring Court and Livery Dinner
DESCRIPTION:
URL:https://www.launderers.co.uk/event/spring-court-and-livery-dinner/
LOCATION:Launderers’ Hall\, 9 Montague Close\, London Bridge\, London\, SE1 9DD\, United Kingdom
CATEGORIES:Annual Programme,Main Events
ATTACH;FMTTYPE=image/jpeg:https://www.launderers.co.uk/wp-content/uploads/2016/06/join-us.jpg
END:VEVENT
BEGIN:VEVENT
DTSTART;VALUE=DATE:20250425
DTEND;VALUE=DATE:20250428
DTSTAMP:20260426T020613
CREATED:20240805T111218Z
LAST-MODIFIED:20240805T113442Z
UID:10000045-1745539200-1745798399@www.launderers.co.uk
SUMMARY:LIVERY Week-end:  Ghent
DESCRIPTION:
URL:https://www.launderers.co.uk/event/livery-week-end-ghent/
LOCATION:Livery W/E Ghent\, Ghent\, Belgium
CATEGORIES:Annual Programme,Main Events
ATTACH;FMTTYPE=image/jpeg:https://www.launderers.co.uk/wp-content/uploads/2016/06/join-us-logo.jpg
END:VEVENT
BEGIN:VEVENT
DTSTART;TZID=Europe/London:20250523T184500
DTEND;TZID=Europe/London:20250523T220000
DTSTAMP:20260426T020613
CREATED:20240805T111856Z
LAST-MODIFIED:20240806T065453Z
UID:10000046-1748025900-1748037600@www.launderers.co.uk
SUMMARY:the Annual Banquet
DESCRIPTION:
URL:https://www.launderers.co.uk/event/the-annual-banquet/
LOCATION:Glaziers’ Hall\, Glaziers Hall\, 9 Montague Close\, London\, SE1 9DD\, United Kingdom
CATEGORIES:Annual Programme,Main Events
ATTACH;FMTTYPE=image/jpeg:https://www.launderers.co.uk/wp-content/uploads/2016/06/join-us.jpg
END:VEVENT
END:VCALENDAR