BEGIN:VCALENDAR
VERSION:2.0
PRODID:-//The Worshipful Company of Launderers - ECPv6.15.20//NONSGML v1.0//EN
CALSCALE:GREGORIAN
METHOD:PUBLISH
X-WR-CALNAME:The Worshipful Company of Launderers
X-ORIGINAL-URL:https://www.launderers.co.uk
X-WR-CALDESC:Events for The Worshipful Company of Launderers
REFRESH-INTERVAL;VALUE=DURATION:PT1H
X-Robots-Tag:noindex
X-PUBLISHED-TTL:PT1H
BEGIN:VTIMEZONE
TZID:Europe/London
BEGIN:DAYLIGHT
TZOFFSETFROM:+0000
TZOFFSETTO:+0100
TZNAME:BST
DTSTART:20250330T010000
END:DAYLIGHT
BEGIN:STANDARD
TZOFFSETFROM:+0100
TZOFFSETTO:+0000
TZNAME:GMT
DTSTART:20251026T010000
END:STANDARD
BEGIN:DAYLIGHT
TZOFFSETFROM:+0000
TZOFFSETTO:+0100
TZNAME:BST
DTSTART:20260329T010000
END:DAYLIGHT
BEGIN:STANDARD
TZOFFSETFROM:+0100
TZOFFSETTO:+0000
TZNAME:GMT
DTSTART:20261025T010000
END:STANDARD
BEGIN:DAYLIGHT
TZOFFSETFROM:+0000
TZOFFSETTO:+0100
TZNAME:BST
DTSTART:20270328T010000
END:DAYLIGHT
BEGIN:STANDARD
TZOFFSETFROM:+0100
TZOFFSETTO:+0000
TZNAME:GMT
DTSTART:20271031T010000
END:STANDARD
END:VTIMEZONE
BEGIN:VEVENT
DTSTART;VALUE=DATE:20260504
DTEND;VALUE=DATE:20260505
DTSTAMP:20260421T153901
CREATED:20260317T093420Z
LAST-MODIFIED:20260317T093420Z
UID:10000065-1777852800-1777939199@www.launderers.co.uk
SUMMARY:External Event - Honourable Artillery Company Archery Club Livery Companies Shoot\, Monday May 4th 2026
DESCRIPTION:As President of the Honourable Artillery Company Archery Club\, I would like to invite your Livery men and women to join us on the 4th May to shoot longbows at Armoury House on City Road. \nHAC Archery Competition \nFounded in 1537\, the HAC has a long history of protecting the prosperity of the City and its Livery Companies.  The shoot aims to foster friendly links between Livery Companies and the HAC and we welcome experienced and novice archers alike to this event. \nAndy Cook\, President HACAC
URL:https://www.launderers.co.uk/event/external-event-honourable-artillery-company-archery-club-livery-companies-shoot-monday-may-4th-2026/
LOCATION:The National Tennis Centre\, Roehampton SW15 5JQ\, City Road\, EC1Y 1AA
ATTACH;FMTTYPE=image/png:https://www.launderers.co.uk/wp-content/uploads/2026/03/HAC-Logo.png
END:VEVENT
END:VCALENDAR